Package: scTreeViz Version: 1.5.0 Command: /home/biocbuild/bbs-3.17-bioc/R/bin/R CMD INSTALL scTreeViz StartedAt: 2023-04-12 02:02:34 -0400 (Wed, 12 Apr 2023) EndedAt: 2023-04-12 02:04:15 -0400 (Wed, 12 Apr 2023) EllapsedTime: 100.6 seconds RetCode: 0 Status: OK