Package: scTreeViz Version: 1.5.0 Command: /home/biocbuild/bbs-3.17-bioc/R/bin/R CMD check --install=check:scTreeViz.install-out.txt --library=/home/biocbuild/bbs-3.17-bioc/R/site-library --timings scTreeViz_1.5.0.tar.gz StartedAt: 2023-04-12 09:16:11 -0400 (Wed, 12 Apr 2023) EndedAt: 2023-04-12 09:27:06 -0400 (Wed, 12 Apr 2023) EllapsedTime: 655.0 seconds RetCode: 0 Status: OK CheckDir: scTreeViz.Rcheck Warnings: 0