Package: scTreeViz Version: 1.5.0 Command: /home/biocbuild/bbs-3.17-bioc/R/bin/R CMD build --keep-empty-dirs --no-resave-data scTreeViz StartedAt: 2023-04-12 04:08:39 -0400 (Wed, 12 Apr 2023) EndedAt: 2023-04-12 04:11:54 -0400 (Wed, 12 Apr 2023) EllapsedTime: 195.7 seconds RetCode: 0 Status: OK PackageFile: scTreeViz_1.5.0.tar.gz PackageFileSize: 2.298 MiB