git_url: https://git.bioconductor.org/packages/scTreeViz git_branch: devel git_last_commit: 502260a git_last_commit_date: 2022-11-01 11:25:46 -0400 (Tue, 01 Nov 2022) Package: scTreeViz Version: 1.5.0 Maintainer: Jayaram Kancherla MaintainerEmail: jayaram.kancherla at gmail.com