Package: phosphonormalizer Version: 1.23.0 Command: /home/biocbuild/bbs-3.17-bioc/R/bin/R CMD build --keep-empty-dirs --no-resave-data phosphonormalizer StartedAt: 2023-04-12 03:43:17 -0400 (Wed, 12 Apr 2023) EndedAt: 2023-04-12 03:43:34 -0400 (Wed, 12 Apr 2023) EllapsedTime: 17.1 seconds RetCode: 0 Status: OK PackageFile: phosphonormalizer_1.23.0.tar.gz PackageFileSize: 2.586 MiB