Package: netboost Version: 2.7.7 Command: /home/biocbuild/bbs-3.17-bioc/R/bin/R CMD build --keep-empty-dirs --no-resave-data netboost StartedAt: 2023-04-12 03:27:28 -0400 (Wed, 12 Apr 2023) EndedAt: 2023-04-12 03:28:37 -0400 (Wed, 12 Apr 2023) EllapsedTime: 68.2 seconds RetCode: 0 Status: OK PackageFile: netboost_2.7.7.tar.gz PackageFileSize: 1.074 MiB