Package: netboost Version: 2.7.7 Command: /home/biocbuild/bbs-3.17-bioc/R/bin/R CMD INSTALL netboost StartedAt: 2023-04-11 15:27:39 -0400 (Tue, 11 Apr 2023) EndedAt: 2023-04-11 15:28:30 -0400 (Tue, 11 Apr 2023) EllapsedTime: 50.9 seconds RetCode: 0 Status: OK