Package: netOmics Version: 1.5.1 Command: /home/biocbuild/bbs-3.17-bioc/R/bin/R CMD check --install=check:netOmics.install-out.txt --library=/home/biocbuild/bbs-3.17-bioc/R/site-library --timings netOmics_1.5.1.tar.gz StartedAt: 2023-04-12 07:52:08 -0400 (Wed, 12 Apr 2023) EndedAt: 2023-04-12 07:57:52 -0400 (Wed, 12 Apr 2023) EllapsedTime: 343.9 seconds RetCode: 0 Status: OK CheckDir: netOmics.Rcheck Warnings: 0