git_url: https://git.bioconductor.org/packages/ndexr git_branch: devel git_last_commit: 949bffc git_last_commit_date: 2023-03-23 05:57:09 -0400 (Thu, 23 Mar 2023) Package: ndexr Version: 1.21.2 Maintainer: Florian Auer MaintainerEmail: florian.auer at informatik.uni-augsburg.de