Package: ncdfFlow Version: 2.45.0 Command: /home/biocbuild/bbs-3.17-bioc/R/bin/R CMD build --keep-empty-dirs --no-resave-data ncdfFlow StartedAt: 2023-04-12 03:26:59 -0400 (Wed, 12 Apr 2023) EndedAt: 2023-04-12 03:27:25 -0400 (Wed, 12 Apr 2023) EllapsedTime: 26.1 seconds RetCode: 0 Status: OK PackageFile: ncdfFlow_2.45.0.tar.gz PackageFileSize: 179.3 KiB