Package: multiMiR Version: 1.21.0 Command: /home/biocbuild/bbs-3.17-bioc/R/bin/R CMD build --keep-empty-dirs --no-resave-data multiMiR StartedAt: 2023-04-12 03:25:41 -0400 (Wed, 12 Apr 2023) EndedAt: 2023-04-12 03:26:36 -0400 (Wed, 12 Apr 2023) EllapsedTime: 55.2 seconds RetCode: 0 Status: OK PackageFile: multiMiR_1.21.0.tar.gz PackageFileSize: 317.9 KiB