Package: iClusterPlus Version: 1.35.1 Command: /home/biocbuild/bbs-3.17-bioc/R/bin/R CMD check --install=check:iClusterPlus.install-out.txt --library=/home/biocbuild/bbs-3.17-bioc/R/site-library --timings iClusterPlus_1.35.1.tar.gz StartedAt: 2023-04-12 06:52:57 -0400 (Wed, 12 Apr 2023) EndedAt: 2023-04-12 06:54:28 -0400 (Wed, 12 Apr 2023) EllapsedTime: 90.3 seconds RetCode: 0 Status: OK CheckDir: iClusterPlus.Rcheck Warnings: 0