Package: iClusterPlus Version: 1.35.1 Command: /home/biocbuild/bbs-3.17-bioc/R/bin/R CMD build --keep-empty-dirs --no-resave-data iClusterPlus StartedAt: 2023-04-12 03:04:50 -0400 (Wed, 12 Apr 2023) EndedAt: 2023-04-12 03:05:24 -0400 (Wed, 12 Apr 2023) EllapsedTime: 34.1 seconds RetCode: 0 Status: OK PackageFile: iClusterPlus_1.35.1.tar.gz PackageFileSize: 20.6 MiB