Package: hyperdraw Version: 1.51.0 Command: /home/biocbuild/bbs-3.17-bioc/R/bin/R CMD check --install=check:hyperdraw.install-out.txt --library=/home/biocbuild/bbs-3.17-bioc/R/site-library --timings hyperdraw_1.51.0.tar.gz StartedAt: 2023-04-12 06:51:59 -0400 (Wed, 12 Apr 2023) EndedAt: 2023-04-12 06:52:39 -0400 (Wed, 12 Apr 2023) EllapsedTime: 40.1 seconds RetCode: 0 Status: OK CheckDir: hyperdraw.Rcheck Warnings: 0