Package: graph Version: 1.77.3 Command: /home/biocbuild/bbs-3.17-bioc/R/bin/R CMD build --keep-empty-dirs --no-resave-data graph StartedAt: 2023-04-12 02:58:28 -0400 (Wed, 12 Apr 2023) EndedAt: 2023-04-12 02:58:57 -0400 (Wed, 12 Apr 2023) EllapsedTime: 29.1 seconds RetCode: 0 Status: OK PackageFile: graph_1.77.3.tar.gz PackageFileSize: 1.22 MiB