git_url: https://git.bioconductor.org/packages/graph git_branch: devel git_last_commit: 6184386 git_last_commit_date: 2023-03-27 16:30:04 -0400 (Mon, 27 Mar 2023) Package: graph Version: 1.77.3 Maintainer: Bioconductor Package Maintainer MaintainerEmail: maintainer at bioconductor.org