Package: goTools Version: 1.73.0 Command: /home/biocbuild/bbs-3.17-bioc/R/bin/R CMD INSTALL goTools StartedAt: 2023-04-12 01:39:52 -0400 (Wed, 12 Apr 2023) EndedAt: 2023-04-12 01:40:09 -0400 (Wed, 12 Apr 2023) EllapsedTime: 17.8 seconds RetCode: 0 Status: OK