Package: goTools Version: 1.73.0 Command: /home/biocbuild/bbs-3.17-bioc/R/bin/R CMD build --keep-empty-dirs --no-resave-data goTools StartedAt: 2023-04-12 02:57:54 -0400 (Wed, 12 Apr 2023) EndedAt: 2023-04-12 02:58:12 -0400 (Wed, 12 Apr 2023) EllapsedTime: 18.0 seconds RetCode: 0 Status: OK PackageFile: goTools_1.73.0.tar.gz PackageFileSize: 102 KiB