git_url: https://git.bioconductor.org/packages/erccdashboard git_branch: devel git_last_commit: be8ae44 git_last_commit_date: 2022-11-01 11:10:10 -0400 (Tue, 01 Nov 2022) Package: erccdashboard Version: 1.33.0 Maintainer: Sarah Munro MaintainerEmail: sarah.munro at gmail.com