Package: compEpiTools Version: 1.33.0 Command: /home/biocbuild/bbs-3.17-bioc/R/bin/R CMD build --keep-empty-dirs --no-resave-data compEpiTools StartedAt: 2023-04-11 16:11:15 -0400 (Tue, 11 Apr 2023) EndedAt: 2023-04-11 16:12:44 -0400 (Tue, 11 Apr 2023) EllapsedTime: 88.8 seconds RetCode: 0 Status: OK PackageFile: compEpiTools_1.33.0.tar.gz PackageFileSize: 2.162 MiB