Package: clustifyr Version: 1.11.1 Command: /home/biocbuild/bbs-3.17-bioc/R/bin/R CMD INSTALL clustifyr StartedAt: 2023-04-11 15:28:05 -0400 (Tue, 11 Apr 2023) EndedAt: 2023-04-11 15:28:31 -0400 (Tue, 11 Apr 2023) EllapsedTime: 26.7 seconds RetCode: 0 Status: OK