Package: clustifyr Version: 1.11.1 Command: /home/biocbuild/bbs-3.17-bioc/R/bin/R CMD check --install=check:clustifyr.install-out.txt --library=/home/biocbuild/bbs-3.17-bioc/R/site-library --timings clustifyr_1.11.1.tar.gz StartedAt: 2023-04-11 19:22:39 -0400 (Tue, 11 Apr 2023) EndedAt: 2023-04-11 19:34:34 -0400 (Tue, 11 Apr 2023) EllapsedTime: 715.4 seconds RetCode: 0 Status: OK CheckDir: clustifyr.Rcheck Warnings: 0