Package: clusterExperiment Version: 2.19.0 Command: /home/biocbuild/bbs-3.17-bioc/R/bin/R CMD build --keep-empty-dirs --no-resave-data clusterExperiment StartedAt: 2023-04-12 02:29:22 -0400 (Wed, 12 Apr 2023) EndedAt: 2023-04-12 02:35:09 -0400 (Wed, 12 Apr 2023) EllapsedTime: 347.3 seconds RetCode: 0 Status: OK PackageFile: clusterExperiment_2.19.0.tar.gz PackageFileSize: 10.56 MiB