Package: cfDNAPro Version: 1.5.4 Command: /home/biocbuild/bbs-3.17-bioc/R/bin/R CMD INSTALL cfDNAPro StartedAt: 2023-04-12 01:53:46 -0400 (Wed, 12 Apr 2023) EndedAt: 2023-04-12 01:54:30 -0400 (Wed, 12 Apr 2023) EllapsedTime: 44.1 seconds RetCode: 0 Status: OK