git_url: https://git.bioconductor.org/packages/cBioPortalData git_branch: devel git_last_commit: a1664a8 git_last_commit_date: 2023-01-20 13:07:10 -0400 (Fri, 20 Jan 2023) Package: cBioPortalData Version: 2.11.5 Maintainer: Marcel Ramos MaintainerEmail: marcel.ramos at roswellpark.org