Package: biocGraph Version: 1.61.0 Command: /home/biocbuild/bbs-3.17-bioc/R/bin/R CMD INSTALL biocGraph StartedAt: 2023-04-12 01:43:36 -0400 (Wed, 12 Apr 2023) EndedAt: 2023-04-12 01:43:57 -0400 (Wed, 12 Apr 2023) EllapsedTime: 20.8 seconds RetCode: 0 Status: OK