Package: biocGraph Version: 1.61.0 Command: /home/biocbuild/bbs-3.17-bioc/R/bin/R CMD check --install=check:biocGraph.install-out.txt --library=/home/biocbuild/bbs-3.17-bioc/R/site-library --timings biocGraph_1.61.0.tar.gz StartedAt: 2023-04-12 04:56:08 -0400 (Wed, 12 Apr 2023) EndedAt: 2023-04-12 04:58:18 -0400 (Wed, 12 Apr 2023) EllapsedTime: 129.5 seconds RetCode: 0 Status: OK CheckDir: biocGraph.Rcheck Warnings: 0