Package: biocGraph Version: 1.61.0 Command: /home/biocbuild/bbs-3.17-bioc/R/bin/R CMD build --keep-empty-dirs --no-resave-data biocGraph StartedAt: 2023-04-12 02:17:46 -0400 (Wed, 12 Apr 2023) EndedAt: 2023-04-12 02:18:14 -0400 (Wed, 12 Apr 2023) EllapsedTime: 28.1 seconds RetCode: 0 Status: OK PackageFile: biocGraph_1.61.0.tar.gz PackageFileSize: 442.3 KiB