Package: alabaster.matrix Version: 0.99.2 Command: /home/biocbuild/bbs-3.17-bioc/R/bin/R CMD check --install=check:alabaster.matrix.install-out.txt --library=/home/biocbuild/bbs-3.17-bioc/R/site-library --timings alabaster.matrix_0.99.2.tar.gz StartedAt: 2023-04-11 18:29:28 -0400 (Tue, 11 Apr 2023) EndedAt: 2023-04-11 18:31:23 -0400 (Tue, 11 Apr 2023) EllapsedTime: 114.8 seconds RetCode: 0 Status: OK CheckDir: alabaster.matrix.Rcheck Warnings: 0