Package: alabaster.matrix Version: 0.99.2 Command: /home/biocbuild/bbs-3.17-bioc/R/bin/R CMD build --keep-empty-dirs --no-resave-data alabaster.matrix StartedAt: 2023-04-11 15:46:19 -0400 (Tue, 11 Apr 2023) EndedAt: 2023-04-11 15:46:40 -0400 (Tue, 11 Apr 2023) EllapsedTime: 21.1 seconds RetCode: 0 Status: OK PackageFile: alabaster.matrix_0.99.2.tar.gz PackageFileSize: 230.6 KiB