Package: alabaster.bumpy Version: 0.99.1 Command: /home/biocbuild/bbs-3.17-bioc/R/bin/R CMD INSTALL alabaster.bumpy StartedAt: 2023-04-12 01:40:59 -0400 (Wed, 12 Apr 2023) EndedAt: 2023-04-12 01:41:19 -0400 (Wed, 12 Apr 2023) EllapsedTime: 20.1 seconds RetCode: 0 Status: OK