Package: alabaster.bumpy Version: 0.99.1 Command: /home/biocbuild/bbs-3.17-bioc/R/bin/R CMD check --install=check:alabaster.bumpy.install-out.txt --library=/home/biocbuild/bbs-3.17-bioc/R/site-library --timings alabaster.bumpy_0.99.1.tar.gz StartedAt: 2023-04-12 04:36:33 -0400 (Wed, 12 Apr 2023) EndedAt: 2023-04-12 04:38:04 -0400 (Wed, 12 Apr 2023) EllapsedTime: 90.3 seconds RetCode: 0 Status: OK CheckDir: alabaster.bumpy.Rcheck Warnings: 0