Package: alabaster.bumpy Version: 0.99.1 Command: /home/biocbuild/bbs-3.17-bioc/R/bin/R CMD build --keep-empty-dirs --no-resave-data alabaster.bumpy StartedAt: 2023-04-12 02:10:26 -0400 (Wed, 12 Apr 2023) EndedAt: 2023-04-12 02:10:45 -0400 (Wed, 12 Apr 2023) EllapsedTime: 18.1 seconds RetCode: 0 Status: OK PackageFile: alabaster.bumpy_0.99.1.tar.gz PackageFileSize: 235 KiB