Package: VariantTools Version: 1.41.0 Command: /home/biocbuild/bbs-3.17-bioc/R/bin/R CMD INSTALL VariantTools StartedAt: 2023-04-12 01:48:54 -0400 (Wed, 12 Apr 2023) EndedAt: 2023-04-12 01:49:57 -0400 (Wed, 12 Apr 2023) EllapsedTime: 62.6 seconds RetCode: 0 Status: OK