Package: VariantTools Version: 1.41.0 Command: /home/biocbuild/bbs-3.17-bioc/R/bin/R CMD check --install=check:VariantTools.install-out.txt --library=/home/biocbuild/bbs-3.17-bioc/R/site-library --timings VariantTools_1.41.0.tar.gz StartedAt: 2023-04-12 10:07:16 -0400 (Wed, 12 Apr 2023) EndedAt: 2023-04-12 10:14:04 -0400 (Wed, 12 Apr 2023) EllapsedTime: 408.1 seconds RetCode: 1 Status: ERROR CheckDir: VariantTools.Rcheck Warnings: NA