Package: SpatialExperiment Version: 1.9.5 Command: /home/biocbuild/bbs-3.17-bioc/R/bin/R CMD INSTALL SpatialExperiment StartedAt: 2023-04-12 01:46:04 -0400 (Wed, 12 Apr 2023) EndedAt: 2023-04-12 01:46:50 -0400 (Wed, 12 Apr 2023) EllapsedTime: 45.5 seconds RetCode: 0 Status: OK