Package: SpatialExperiment Version: 1.9.5 Command: /home/biocbuild/bbs-3.17-bioc/R/bin/R CMD build --keep-empty-dirs --no-resave-data SpatialExperiment StartedAt: 2023-04-12 04:15:50 -0400 (Wed, 12 Apr 2023) EndedAt: 2023-04-12 04:16:58 -0400 (Wed, 12 Apr 2023) EllapsedTime: 68.2 seconds RetCode: 0 Status: OK PackageFile: SpatialExperiment_1.9.5.tar.gz PackageFileSize: 5.141 MiB