Package: SingleCellSignalR Version: 1.11.1 Command: /home/biocbuild/bbs-3.17-bioc/R/bin/R CMD check --install=check:SingleCellSignalR.install-out.txt --library=/home/biocbuild/bbs-3.17-bioc/R/site-library --timings SingleCellSignalR_1.11.1.tar.gz StartedAt: 2023-04-11 23:37:38 -0400 (Tue, 11 Apr 2023) EndedAt: 2023-04-11 23:42:18 -0400 (Tue, 11 Apr 2023) EllapsedTime: 280.0 seconds RetCode: 0 Status: WARNINGS CheckDir: SingleCellSignalR.Rcheck Warnings: 2