Package: ReactomePA Version: 1.43.0 Command: /home/biocbuild/bbs-3.17-bioc/R/bin/R CMD INSTALL ReactomePA StartedAt: 2023-04-12 01:56:10 -0400 (Wed, 12 Apr 2023) EndedAt: 2023-04-12 01:56:41 -0400 (Wed, 12 Apr 2023) EllapsedTime: 31.6 seconds RetCode: 0 Status: OK