Package: ReactomePA Version: 1.43.0 Command: /home/biocbuild/bbs-3.17-bioc/R/bin/R CMD check --install=check:ReactomePA.install-out.txt --library=/home/biocbuild/bbs-3.17-bioc/R/site-library --timings ReactomePA_1.43.0.tar.gz StartedAt: 2023-04-12 08:43:04 -0400 (Wed, 12 Apr 2023) EndedAt: 2023-04-12 08:46:40 -0400 (Wed, 12 Apr 2023) EllapsedTime: 215.6 seconds RetCode: 0 Status: OK CheckDir: ReactomePA.Rcheck Warnings: 0