Package: RTCGAToolbox Version: 2.29.6 Command: /home/biocbuild/bbs-3.17-bioc/R/bin/R CMD INSTALL RTCGAToolbox StartedAt: 2023-04-12 01:49:42 -0400 (Wed, 12 Apr 2023) EndedAt: 2023-04-12 01:50:14 -0400 (Wed, 12 Apr 2023) EllapsedTime: 31.7 seconds RetCode: 0 Status: OK