Package: RTCGA Version: 1.29.0 Command: /home/biocbuild/bbs-3.17-bioc/R/bin/R CMD check --install=check:RTCGA.install-out.txt --library=/home/biocbuild/bbs-3.17-bioc/R/site-library --timings RTCGA_1.29.0.tar.gz StartedAt: 2023-04-12 09:01:53 -0400 (Wed, 12 Apr 2023) EndedAt: 2023-04-12 09:04:28 -0400 (Wed, 12 Apr 2023) EllapsedTime: 154.4 seconds RetCode: 0 Status: OK CheckDir: RTCGA.Rcheck Warnings: 0