Package: RDRToolbox Version: 1.49.0 Command: /home/biocbuild/bbs-3.17-bioc/R/bin/R CMD check --install=check:RDRToolbox.install-out.txt --library=/home/biocbuild/bbs-3.17-bioc/R/site-library --timings RDRToolbox_1.49.0.tar.gz StartedAt: 2023-04-11 22:52:08 -0400 (Tue, 11 Apr 2023) EndedAt: 2023-04-11 22:53:00 -0400 (Tue, 11 Apr 2023) EllapsedTime: 51.9 seconds RetCode: 0 Status: OK CheckDir: RDRToolbox.Rcheck Warnings: 0