Package: RDRToolbox Version: 1.49.0 Command: /home/biocbuild/bbs-3.17-bioc/R/bin/R CMD build --keep-empty-dirs --no-resave-data RDRToolbox StartedAt: 2023-04-11 17:39:10 -0400 (Tue, 11 Apr 2023) EndedAt: 2023-04-11 17:39:22 -0400 (Tue, 11 Apr 2023) EllapsedTime: 12.2 seconds RetCode: 0 Status: OK PackageFile: RDRToolbox_1.49.0.tar.gz PackageFileSize: 190.6 KiB