Package: LineagePulse Version: 1.19.0 Command: /home/biocbuild/bbs-3.17-bioc/R/bin/R CMD INSTALL LineagePulse StartedAt: 2023-04-11 15:17:15 -0400 (Tue, 11 Apr 2023) EndedAt: 2023-04-11 15:17:40 -0400 (Tue, 11 Apr 2023) EllapsedTime: 25.6 seconds RetCode: 0 Status: OK