Package: LineagePulse Version: 1.19.0 Command: /home/biocbuild/bbs-3.17-bioc/R/bin/R CMD check --install=check:LineagePulse.install-out.txt --library=/home/biocbuild/bbs-3.17-bioc/R/site-library --timings LineagePulse_1.19.0.tar.gz StartedAt: 2023-04-11 21:12:27 -0400 (Tue, 11 Apr 2023) EndedAt: 2023-04-11 21:19:45 -0400 (Tue, 11 Apr 2023) EllapsedTime: 438.1 seconds RetCode: 0 Status: WARNINGS CheckDir: LineagePulse.Rcheck Warnings: 1