Package: ISAnalytics Version: 1.9.3 Command: /home/biocbuild/bbs-3.17-bioc/R/bin/R CMD INSTALL ISAnalytics StartedAt: 2023-04-12 02:01:48 -0400 (Wed, 12 Apr 2023) EndedAt: 2023-04-12 02:02:09 -0400 (Wed, 12 Apr 2023) EllapsedTime: 21.0 seconds RetCode: 0 Status: OK