git_url: https://git.bioconductor.org/packages/ISAnalytics git_branch: devel git_last_commit: 91d73d1 git_last_commit_date: 2023-04-03 13:27:53 -0400 (Mon, 03 Apr 2023) Package: ISAnalytics Version: 1.9.3 Maintainer: Giulia Pais MaintainerEmail: giuliapais1 at gmail.com