Package: HDF5Array Version: 1.27.0 Command: /home/biocbuild/bbs-3.17-bioc/R/bin/R CMD check --install=check:HDF5Array.install-out.txt --library=/home/biocbuild/bbs-3.17-bioc/R/site-library --timings HDF5Array_1.27.0.tar.gz StartedAt: 2023-04-12 06:45:52 -0400 (Wed, 12 Apr 2023) EndedAt: 2023-04-12 06:51:03 -0400 (Wed, 12 Apr 2023) EllapsedTime: 310.9 seconds RetCode: 0 Status: WARNINGS CheckDir: HDF5Array.Rcheck Warnings: 1