Package: GeomxTools Version: 3.3.0 Command: /home/biocbuild/bbs-3.17-bioc/R/bin/R CMD INSTALL GeomxTools StartedAt: 2023-04-12 01:53:27 -0400 (Wed, 12 Apr 2023) EndedAt: 2023-04-12 01:54:00 -0400 (Wed, 12 Apr 2023) EllapsedTime: 33.3 seconds RetCode: 0 Status: OK